BEGIN:VCALENDAR
VERSION:2.0
PRODID:-//Library Market//iCal Export//EN
BEGIN:VEVENT
SUMMARY:Teen Craft : Stenciled Fabric Pouches
UID:3050
DTSTAMP:20260421T182200Z
DTSTART:20260518T230000Z
DTEND:20260519T000000Z
LOCATION:New Providence Memorial Library, 377 Elkwood Ave, New Providence,
  NJ 07974, United States
ROOM: Coddington Room (Small)
DESCRIPTION:Join us to personalize a canvas zipper pouch. Registration req
 uired.
URL:https://newprovidence.librarycalendar.com/event/tentative-teen-program
 -3050
END:VEVENT
END:VCALENDAR
